BEGIN:VCALENDAR
VERSION:2.0
PRODID:-//Comité des fêtes de Précy - ECPv6.15.18//NONSGML v1.0//EN
CALSCALE:GREGORIAN
METHOD:PUBLISH
X-ORIGINAL-URL:https://precycomifete.net
X-WR-CALDESC:Évènements pour Comité des fêtes de Précy
REFRESH-INTERVAL;VALUE=DURATION:PT1H
X-Robots-Tag:noindex
X-PUBLISHED-TTL:PT1H
BEGIN:VTIMEZONE
TZID:Europe/Paris
BEGIN:DAYLIGHT
TZOFFSETFROM:+0100
TZOFFSETTO:+0200
TZNAME:CEST
DTSTART:20230326T010000
END:DAYLIGHT
BEGIN:STANDARD
TZOFFSETFROM:+0200
TZOFFSETTO:+0100
TZNAME:CET
DTSTART:20231029T010000
END:STANDARD
BEGIN:DAYLIGHT
TZOFFSETFROM:+0100
TZOFFSETTO:+0200
TZNAME:CEST
DTSTART:20240331T010000
END:DAYLIGHT
BEGIN:STANDARD
TZOFFSETFROM:+0200
TZOFFSETTO:+0100
TZNAME:CET
DTSTART:20241027T010000
END:STANDARD
BEGIN:DAYLIGHT
TZOFFSETFROM:+0100
TZOFFSETTO:+0200
TZNAME:CEST
DTSTART:20250330T010000
END:DAYLIGHT
BEGIN:STANDARD
TZOFFSETFROM:+0200
TZOFFSETTO:+0100
TZNAME:CET
DTSTART:20251026T010000
END:STANDARD
END:VTIMEZONE
BEGIN:VEVENT
DTSTART;VALUE=DATE:20241115
DTEND;VALUE=DATE:20241117
DTSTAMP:20260424T190913
CREATED:20241011T074038Z
LAST-MODIFIED:20241011T074211Z
UID:1091-1731628800-1731801599@precycomifete.net
SUMMARY:Bourse aux jouets
DESCRIPTION:Le Comité des Fêtes de Précy-sur-Oise organise sa bourse\nSamedi 16 novembre au Complexe sportif Fabrice Morgado\,\nsente Sorel à Précy sur Oise 60460\n  \nVous avez des jouets dont vos enfants ne veulent plus ?\nVous voulez leur faire plaisir à prix modique pour les fêtes de fin d’année ?\nVous recherchez du matériel de puériculture ?\nLe Comité des Fêtes remet en place une bourse aux jouets et du matériel de puériculture ! \n\nA partir du lundi 14 octobre 2024\, vous inscrivez sur notre site internet. Chaque inscription correspond à une feuille de dépôt contenant 20 entrées et coûte 4€. Par ailleurs\, nous prenons 10% de commission sur les articles que vous aurez vendus. La feuille d’inscription vous sera envoyée par mail après enregistrement de votre inscription.\nNous vous accueillons le vendredi 15 novembre de 15h à 21h\, au gymnase Fabrice Morgado pour installer les jouets et articles de puériculture que vous souhaitez vendre. Les articles sont étiquetés par vos soins avant le dépôt.\nLa bourse aux jouets et aux vêtements se tient le samedi 16 novembre de 8h30 à 17h30 sans interruption.\nLe samedi 16 novembre de 18h30 à 19h30 vous viendrez récupérer les invendus et que nous procéderons au règlement de ce qui a été vendu.\n\nLes objets mis en vente devront être complets\, propres et en très bon état général : \n\nIls doivent être en état de marche et pourront être essayés par les éventuels acheteurs.\nLes jeux de société devront être complets et contenir la règle du jeu.\nLes articles de petites tailles et/ou comportant plusieurs petites pièces (ex. : légo\, playmobil…) devront être emballés dans des sachets transparents.\n\nLes articles refusés d’office sont : \n\nPeluches et doudous\nMagazines\, revues et livres sauf livres pour bébé non crayonnés\, abîmés ou déchirés\nCD et DVD \, jeux vidéo en mauvais état\nPuzzles de plus de 100 pièces (sauf si neufs et dans leur emballage d’origine)\nSièges auto\nVêtements pour enfants (sauf déguisements propres et non abîmés)\n\nRéglement Bourse aux jouets et au matériel de puériculture_CDF_PRecy_2024
URL:https://precycomifete.net/event/bourse-aux-jouets/
LOCATION:Gymnase Fabrice Morgado\, Sente Sorel\, Précy sur Oise\, 60460\, France
ATTACH;FMTTYPE=image/jpeg:https://precycomifete.net/wp-content/uploads/2024/10/001-BASE-AFFICHE-BOURSE-AUX-JOUET.jpg
ORGANIZER;CN="Comit%C3%A9 des f%C3%AAtes":MAILTO:info@precycomifete.net
END:VEVENT
BEGIN:VEVENT
DTSTART;TZID=Europe/Paris:20240602T080000
DTEND;TZID=Europe/Paris:20240602T180000
DTSTAMP:20260424T190913
CREATED:20240323T143553Z
LAST-MODIFIED:20240528T174643Z
UID:312-1717315200-1717351200@precycomifete.net
SUMMARY:Brocante
DESCRIPTION:Réservez votre emplacement pour la brocante du 02 juin 2024 prochain. \nPour vous enregistrer\, merci de compléter le formulaire suivant : \nLes inscriptions sont terminées.
URL:https://precycomifete.net/event/brocante/
LOCATION:Quai de l’Oise\, Quai de l'Oise\, Précy sur Oise\, 60460\, France
ATTACH;FMTTYPE=image/jpeg:https://precycomifete.net/wp-content/uploads/2024/03/brocante_banniere.jpg
ORGANIZER;CN="Comit%C3%A9 des f%C3%AAtes":MAILTO:info@precycomifete.net
END:VEVENT
END:VCALENDAR